BEGIN:VCALENDAR
VERSION:2.0
PRODID:-//Climate Action Now - ECPv6.9.1//NONSGML v1.0//EN
CALSCALE:GREGORIAN
METHOD:PUBLISH
X-ORIGINAL-URL:https://can.ciderhouse.dev
X-WR-CALDESC:Events for Climate Action Now
REFRESH-INTERVAL;VALUE=DURATION:PT1H
X-Robots-Tag:noindex
X-PUBLISHED-TTL:PT1H
BEGIN:VTIMEZONE
TZID:America/New_York
BEGIN:DAYLIGHT
TZOFFSETFROM:-0500
TZOFFSETTO:-0400
TZNAME:EDT
DTSTART:20240310T070000
END:DAYLIGHT
BEGIN:STANDARD
TZOFFSETFROM:-0400
TZOFFSETTO:-0500
TZNAME:EST
DTSTART:20241103T060000
END:STANDARD
END:VTIMEZONE
BEGIN:VEVENT
DTSTART;TZID=America/New_York:20241026T110000
DTEND;TZID=America/New_York:20241026T130000
DTSTAMP:20260420T091713
CREATED:20241015T192855Z
LAST-MODIFIED:20241015T192855Z
UID:10000857-1729940400-1729947600@can.ciderhouse.dev
SUMMARY:Montague Plains Wildlife Management Area - Forest Walk
DESCRIPTION:Please join us for a walk and talk to learn more about the cultural history of the Montague Plains area and the Pine Barrens restoration project at Montague Plains Wildlife Management Area ( WMA) . The MWA covers 1\,500 acres and is managed by the MA Department of Fisheries and Wildlife. \nDate: Saturday\, October 26th\, 2024  11:00 AM – 1:00 PM. \nTopic: Cultural History of the Montague Plains area and the Pine Barrens restoration project at Montague Plains Wildlife Management Area.\n \nLocation: Montague Plains. Old Northfield Road. Parking area at the power lines 0.3 miles from the Lake Pleasant Road\nHere is a map of the location. \nSpeakers: \nJoe Graveline\, former Nolumbeka Project president. He is descended from Cherokee and Abenaki and specializes in presenting the unrepresented Indian side of American history.  \nMichael Kellett\, Executive Director of RESTORE: The North Woods\nDr. Bill Stubblefield\, biologist\, forest advocate and Wendell resident \nDiscussion – The history of the area\nWhat is a pine barrens restoration?\nExtensive tree cutting and mowing\nPrescribed burns\nHerbicide application\nWhat are the costs? Are there benefits?\nWhy we need wildlands\nWhy is the pre-colonial history interesting and important \nReferences:       \n“Native People did not use fire to shape New England’s Landscape” https://theconversation.com/native-people-did-not-use-fire-to-shape-new-englands-landscape-129429 \n“Forest-clearing to create early-successional habitats: Questionable benefits\, significant costs” https://www.frontiersin.org/articles/10.3389/ffgc.2022.1073677/full \n“Wildlands in New England: Past\, Present\, and Future” https://wildlandsandwoodlands.org/resources/wildlands-in-new-england/ \nFor more information\, contact: Janet Sinclair – jasinclair@verizon.net
URL:https://can.ciderhouse.dev/event/montague-plains-wildlife-management-area-forest-walk/
CATEGORIES:forest protection,Natural Solutions
END:VEVENT
BEGIN:VEVENT
DTSTART;TZID=America/New_York:20241028T190000
DTEND;TZID=America/New_York:20241028T203000
DTSTAMP:20260420T091713
CREATED:20241027T153831Z
LAST-MODIFIED:20241027T153831Z
UID:10000858-1730142000-1730147400@can.ciderhouse.dev
SUMMARY:Protecting wildlands in our communities:  A new collaborative campaign
DESCRIPTION:Dr. Susan Masino and Dr. Bill Stubblefield will provide the vision\, the science and the nuts and bolts of the Protecting Wildlands campaign. \nRegister here \nTheir presentation will be followed by Q and A \nClimate Action Now will offer next steps beginning with an invitation to bring groups and communities together to connect and strategize. \nWe warmly invite you to come\, learn more and be a part of this campaign to protect our endangered ecosystem in the communities in which we live. \nSee the report entitled Wildlands in New England: Past\, Present\, and Future to learn more about Wildlands in New England. \nCheck out Dr. Masino’s talk at the April Climate Action Now Gathering on the urgency of protecting wildlands HERE. \n 
URL:https://can.ciderhouse.dev/event/protecting-wildlands-in-our-communities-a-new-collaborative-campaign/
LOCATION:Virtual
CATEGORIES:Building the Movement,forest protection,gathering
ATTACH;FMTTYPE=image/jpeg:https://can.ciderhouse.dev/wp-content/uploads/2024/10/6f98ccb5-ebb7-f063-1073-49d9576a7ac8.jpg
END:VEVENT
END:VCALENDAR