BEGIN:VCALENDAR
VERSION:2.0
PRODID:-//Climate Action Now - ECPv6.9.1//NONSGML v1.0//EN
CALSCALE:GREGORIAN
METHOD:PUBLISH
X-WR-CALNAME:Climate Action Now
X-ORIGINAL-URL:https://can.ciderhouse.dev
X-WR-CALDESC:Events for Climate Action Now
REFRESH-INTERVAL;VALUE=DURATION:PT1H
X-Robots-Tag:noindex
X-PUBLISHED-TTL:PT1H
BEGIN:VTIMEZONE
TZID:America/New_York
BEGIN:DAYLIGHT
TZOFFSETFROM:-0500
TZOFFSETTO:-0400
TZNAME:EDT
DTSTART:20240310T070000
END:DAYLIGHT
BEGIN:STANDARD
TZOFFSETFROM:-0400
TZOFFSETTO:-0500
TZNAME:EST
DTSTART:20241103T060000
END:STANDARD
END:VTIMEZONE
BEGIN:VEVENT
DTSTART;TZID=America/New_York:20241204T190000
DTEND;TZID=America/New_York:20241204T203000
DTSTAMP:20260419T114637
CREATED:20241201T200510Z
LAST-MODIFIED:20241201T201315Z
UID:10001158-1733338800-1733344200@can.ciderhouse.dev
SUMMARY:Each Town Should Have a Park: 100 New National Parks for America with Michael Kellett
DESCRIPTION:Join The Walden Woods Project and RESTORE: The North Woods for a presentation from Michael Kellett about the campaign for new national parks\, why it is important\, and how we can build grassroots support to make this vision a reality. \n \nAbout the presentation: \nHenry David Thoreau had the far-sighted vision to declare\, “Each town should have a park.” Yet\, the people in most American towns still do not have ready access to a large public park. Potential future parks are being lost to resource exploitation and development. The New National Parks campaign has proposed 100 new national parks — at least one in each state. As the nation approaches its 250th celebration in 2026\, this bold vision would celebrate our natural heritage and bring the benefits of nature and the beloved tradition of national parks closer to millions of people. This would relieve pressure on existing parks\, help fight climate change\, and avoid biodiversity loss. We need to create more parks\, before it is too late. \nAbout Michael Kellett: \nMichael Kellett is executive director of RESTORE: The North Woods\, a New England-based nonprofit organization he co-founded in 1992. He has 40 years of experience in the land conservation movement\, including developing the proposal for a 3.2 million-acre Maine Woods National Park\, which led to President Obama’s 2016 designation of Katahdin Woods and Waters National Monument. He has visited more than 250 national park areas across the country. \nWhen: December 4\, 7:00-8:00 pm EST. \nWhere: ZOOM \nRegistration required.  \nCo-sponsored by RESTORE: The North Woods.
URL:https://can.ciderhouse.dev/event/each-town-should-have-a-park-100-new-national-parks-for-america-with-michael-kellett/
CATEGORIES:Natural Solutions
ATTACH;FMTTYPE=image/jpeg:https://can.ciderhouse.dev/wp-content/uploads/2024/11/L1040128-Fall-Forest-2-scaled.jpg
END:VEVENT
BEGIN:VEVENT
DTSTART;TZID=America/New_York:20241210T100000
DTEND;TZID=America/New_York:20241210T120000
DTSTAMP:20260419T114637
CREATED:20241201T203736Z
LAST-MODIFIED:20241203T150633Z
UID:10001219-1733824800-1733832000@can.ciderhouse.dev
SUMMARY:SMART Technical Session on Land Use and Siting - DOER revisions
DESCRIPTION:The Department of Energy Resources (DOER) released a Straw Proposal on July 10\, 2024\, outlining proposed changes to the SMART Program. After extensive stakeholder feedback\, DOER has made revisions to the framework for land use and siting policies in the program. On December 10th from 10:00 AM to 12:00 PM\, DOER will host a virtual technical session to share these revisions with stakeholders and collect feedback. The session will include a short presentation followed by collaborative discussion. DOER will share slides with participants in advance of the session.  \nInterested stakeholders can register for the technical session here.  \nPlease submit any questions to: doer.energy@mass.gov. \nWAYS TO JOIN ZOOM \nJoin Meeting\n \n\n\n\n\n\n\n\nmeeting ID:\n958 7854 3695\n\n\n\n\n\nPasscode\n051313
URL:https://can.ciderhouse.dev/event/smart-technical-session-on-land-use-and-siting/
CATEGORIES:Energy Transition,forest protection,legislation and regulations,Natural Solutions
ATTACH;FMTTYPE=image/jpeg:https://can.ciderhouse.dev/wp-content/uploads/nfld-dual-use-solar.jpg
END:VEVENT
BEGIN:VEVENT
DTSTART;TZID=America/New_York:20241211T183000
DTEND;TZID=America/New_York:20241211T200000
DTSTAMP:20260419T114637
CREATED:20241127T193906Z
LAST-MODIFIED:20241127T194212Z
UID:10001098-1733941800-1733947200@can.ciderhouse.dev
SUMMARY:Join Our Campaign to Protect Wildlands in Massachusetts!
DESCRIPTION:Do you find solace in woods and other wild places? \nWould you like to join a positive\, collaborative campaign that will protect wildlife areas where you live and across the Commonwealth? \nClimate Action Now welcomes individuals and organizations ready to take action to identify and protect priority Wildlands to join our new campaign. Learn about the campaign here\, and sign up for our first campaign planning meeting on December 11 at 6:30pm here. \nClimate Action Now’s Regenerative Farming\, Forests and Food Systems group decided to launch the Wildlands campaign in response to the report Wildlands in New England: Past\, Present\, and Future and because we understand that: \n\nHealthy forests are key for carbon storage\, biodiversity\, regulating planetary systems and our well-being;\nOur state is 60% forested but only 2% has been preserved as Wildlands — much of which lacks permanent protection;\nIn a time when our ecosystem is under assault\, protecting nature is an act of love and a defense of life itself.\n\nWe look forward to seeing you at our first meeting at 6:30pm on December 11th!
URL:https://can.ciderhouse.dev/event/join-our-campaign-to-protect-wildlands-in-massachusetts/
CATEGORIES:Building the Movement,Natural Solutions
ATTACH;FMTTYPE=image/jpeg:https://can.ciderhouse.dev/wp-content/uploads/forest-image.jpg
END:VEVENT
BEGIN:VEVENT
DTSTART;TZID=America/New_York:20241212T190000
DTEND;TZID=America/New_York:20241212T203000
DTSTAMP:20260419T114637
CREATED:20241201T201955Z
LAST-MODIFIED:20241201T202250Z
UID:10001159-1734030000-1734035400@can.ciderhouse.dev
SUMMARY:Sierra Club Forest Protection team monthly meeting
DESCRIPTION:Sierra Club Forest Protection Team\n\n\nMonthly on the second Thursday 7:00 – 8:30pm. See the full Massachusetts Chapter events calendar here.\n\n\n\nThis is the recurring link\nJoin Zoom Meetinghttps://us02web.zoom.us/j/89586846057?pwd=SHFZRHI2bFl3aHh3N2FMaVUxdDVzdz09Meeting ID: 895 8684 6057Passcode: 410906
URL:https://can.ciderhouse.dev/event/sierra-club-forest-protection-team-monthly-meeting/2024-12-12/
CATEGORIES:forest protection,Natural Solutions
ATTACH;FMTTYPE=image/jpeg:https://can.ciderhouse.dev/wp-content/uploads/2024/11/X1003023-Pine-Grove-scaled.jpg
END:VEVENT
END:VCALENDAR