BEGIN:VCALENDAR
VERSION:2.0
PRODID:-//Climate Action Now - ECPv6.9.1//NONSGML v1.0//EN
CALSCALE:GREGORIAN
METHOD:PUBLISH
X-ORIGINAL-URL:https://can.ciderhouse.dev
X-WR-CALDESC:Events for Climate Action Now
REFRESH-INTERVAL;VALUE=DURATION:PT1H
X-Robots-Tag:noindex
X-PUBLISHED-TTL:PT1H
BEGIN:VTIMEZONE
TZID:America/New_York
BEGIN:DAYLIGHT
TZOFFSETFROM:-0500
TZOFFSETTO:-0400
TZNAME:EDT
DTSTART:20240310T070000
END:DAYLIGHT
BEGIN:STANDARD
TZOFFSETFROM:-0400
TZOFFSETTO:-0500
TZNAME:EST
DTSTART:20241103T060000
END:STANDARD
END:VTIMEZONE
BEGIN:VEVENT
DTSTART;TZID=America/New_York:20241011T092500
DTEND;TZID=America/New_York:20241011T100000
DTSTAMP:20260419T145910
CREATED:20241010T181739Z
LAST-MODIFIED:20241010T182129Z
UID:10000736-1728638700-1728640800@can.ciderhouse.dev
SUMMARY:Update on Forests as Climate Solutions at DCR Stewardship Council
DESCRIPTION:The Update on Forests as Climate Solutions\,  with Kurt Gaertner\, Asst. Secretary for\nEnvironmental Policy\, Mass EOEEA starts at 9:25 according to the agenda\, with the Commissioner speaking at 9:10. This is a meeting of the Stewardship Council for the Division of Conservation and Recreation. \nhttps://zoom.us/j/92685304276?pwd=UmJScUxSVFhTemRwOWFwWTVzZS95UT09\nMeeting ID: 926 8530 4276\nPasscode: 191034
URL:https://can.ciderhouse.dev/event/update-on-forests-as-climate-solutions-at-dcr-stewardship-council/
CATEGORIES:Natural Solutions
LOCATION:https://can.ciderhouse.dev/event/update-on-forests-as-climate-solutions-at-dcr-stewardship-council/
END:VEVENT
END:VCALENDAR